BEGIN:VCALENDAR
VERSION:2.0
PRODID:-//Herman van Veen - ECPv5.16.4//NONSGML v1.0//EN
CALSCALE:GREGORIAN
METHOD:PUBLISH
X-WR-CALNAME:Herman van Veen
X-ORIGINAL-URL:https://hermanvanveen.com
X-WR-CALDESC:Evenementen voor Herman van Veen
BEGIN:VTIMEZONE
TZID:Europe/Amsterdam
BEGIN:DAYLIGHT
TZOFFSETFROM:+0100
TZOFFSETTO:+0200
TZNAME:CEST
DTSTART:20260329T010000
END:DAYLIGHT
BEGIN:STANDARD
TZOFFSETFROM:+0200
TZOFFSETTO:+0100
TZNAME:CET
DTSTART:20261025T010000
END:STANDARD
END:VTIMEZONE
BEGIN:VEVENT
DTSTART;TZID=Europe/Amsterdam:20260828T190000
DTEND;TZID=Europe/Amsterdam:20260828T190000
DTSTAMP:20260421T115826
CREATED:20260410T080010Z
LAST-MODIFIED:20260409T144447Z
UID:12609-1787943600-1787943600@hermanvanveen.com
SUMMARY:Herman van Veen - 'Achtzig' Open air
DESCRIPTION:Wir kommen draußen spielen\nWind wird Stadtgeräusche\ndurch die Zweige wehen\nFüße werden Rhythmen stampfen\nim Gras\nLachen wird rollen\nentlang der Reihen\nSchauer werden übertreiben\nin der Pause\nkannst du schauen auf\nSonnenuntergang\nein Vögelchen\nwird kurz nicht wissen\nwo zu landen\nnach dem letzten Lied\nwirst du mit ein bisschen Glück\nSterne sehen können\nwährend Menschen\nPlastikbecher aufräumen \nHerman van Veen
URL:https://hermanvanveen.com/evenement/herman-van-veen-achtzig-open-air-6/
LOCATION:Kulturzelt Braunschweig\, Braunschweig\, Germany
ATTACH;FMTTYPE=image/jpeg:https://hermanvanveen.com/wp-content/uploads/2026/03/Herman_van_Veen_Olaf_Bellmann_Vierkant.jpg
END:VEVENT
END:VCALENDAR