BEGIN:VCALENDAR
VERSION:2.0
PRODID:-//Herman van Veen - ECPv5.16.4//NONSGML v1.0//EN
CALSCALE:GREGORIAN
METHOD:PUBLISH
X-WR-CALNAME:Herman van Veen
X-ORIGINAL-URL:https://hermanvanveen.com
X-WR-CALDESC:Evenementen voor Herman van Veen
BEGIN:VTIMEZONE
TZID:Europe/Amsterdam
BEGIN:DAYLIGHT
TZOFFSETFROM:+0100
TZOFFSETTO:+0200
TZNAME:CEST
DTSTART:20260329T010000
END:DAYLIGHT
BEGIN:STANDARD
TZOFFSETFROM:+0200
TZOFFSETTO:+0100
TZNAME:CET
DTSTART:20261025T010000
END:STANDARD
END:VTIMEZONE
BEGIN:VEVENT
DTSTART;TZID=Europe/Amsterdam:20260131T200000
DTEND;TZID=Europe/Amsterdam:20260131T200000
DTSTAMP:20260425T033712
CREATED:20251204T135250Z
LAST-MODIFIED:20251204T135250Z
UID:12513-1769889600-1769889600@hermanvanveen.com
SUMMARY:Vogelvlucht-Concert
DESCRIPTION:Naast de aandacht die Herman in zijn verjaardagsjaar besteedt aan zijn tachtigste verjaardag in internationale schouwburgen en concertzalen\, hadden wij op 30 en 31 augustus jongstleden een paar Vogelvlucht-concerten met Herman en Edith Leerkes op De Paltz geprogrammeerd.\nDoor een sterfgeval in de familie kon dat niet doorgaan. \nDeze concerten vinden nu plaats op vrijdag 30 & zaterdag 31 januari om 20:00 uur\nen op zondag 1 februari om 15:00 uur.\nDe meeste bezoekers met een reservering voor de oorspronkelijke data hebben we\nopnieuw kunnen plaatsen. De overige tickets gaan hier in de programmering in de verkoop.
URL:https://hermanvanveen.com/evenement/vogelvlucht-concert-31-1-2026/
LOCATION:Landgoedtheater De Kapschuur\, Landgoed de Paltz 1\, Soest\, Nederland
ATTACH;FMTTYPE=image/jpeg:https://hermanvanveen.com/wp-content/uploads/2024/01/Foto_Winterliedjes.jpeg
END:VEVENT
END:VCALENDAR